BEGIN:VCALENDAR
VERSION:2.0
PRODID:-//Les Taillades - ECPv5.14.2.1//NONSGML v1.0//EN
CALSCALE:GREGORIAN
METHOD:PUBLISH
X-WR-CALNAME:Les Taillades
X-ORIGINAL-URL:https://lestaillades.fr
X-WR-CALDESC:évènements pour Les Taillades
REFRESH-INTERVAL;VALUE=DURATION:PT1H
X-Robots-Tag:noindex
X-PUBLISHED-TTL:PT1H
BEGIN:VTIMEZONE
TZID:Europe/Paris
BEGIN:DAYLIGHT
TZOFFSETFROM:+0100
TZOFFSETTO:+0200
TZNAME:CEST
DTSTART:20240331T010000
END:DAYLIGHT
BEGIN:STANDARD
TZOFFSETFROM:+0200
TZOFFSETTO:+0100
TZNAME:CET
DTSTART:20241027T010000
END:STANDARD
END:VTIMEZONE
BEGIN:VEVENT
DTSTART;TZID=Europe/Paris:20241020T090000
DTEND;TZID=Europe/Paris:20241020T190000
DTSTAMP:20260420T050626
CREATED:20241003T125655Z
LAST-MODIFIED:20241003T125656Z
UID:4354-1729414800-1729450800@lestaillades.fr
SUMMARY:AU BONHEUR DES JARDINIERS
DESCRIPTION:Venez à la rencontre de professionnels du jardin\, Ateliers enfants et d’art floral\, exposition…
URL:https://lestaillades.fr/event/au-bonheur-des-jardiniers-3/
LOCATION:salle des fêtes\, Moulin Saint-Pierre\, Avenue du Moulin Saint-Pierre\, Les Taillades\, 84300\, France
ATTACH;FMTTYPE=image/jpeg:https://lestaillades.fr/wp-content/uploads/2024/10/Jardiniers24-carre.jpg
ORGANIZER;CN="Association%20Au%20Bonheur%20des%20Jardiniers":MAILTO:aubonheurdesjardiniers@gmail.com
END:VEVENT
END:VCALENDAR