BEGIN:VCALENDAR
VERSION:2.0
PRODID:-//Les Taillades - ECPv5.14.2.1//NONSGML v1.0//EN
CALSCALE:GREGORIAN
METHOD:PUBLISH
X-WR-CALNAME:Les Taillades
X-ORIGINAL-URL:https://lestaillades.fr
X-WR-CALDESC:évènements pour Les Taillades
REFRESH-INTERVAL;VALUE=DURATION:PT1H
X-Robots-Tag:noindex
X-PUBLISHED-TTL:PT1H
BEGIN:VTIMEZONE
TZID:Europe/Paris
BEGIN:DAYLIGHT
TZOFFSETFROM:+0100
TZOFFSETTO:+0200
TZNAME:CEST
DTSTART:20240331T010000
END:DAYLIGHT
BEGIN:STANDARD
TZOFFSETFROM:+0200
TZOFFSETTO:+0100
TZNAME:CET
DTSTART:20241027T010000
END:STANDARD
END:VTIMEZONE
BEGIN:VEVENT
DTSTART;TZID=Europe/Paris:20241018T160000
DTEND;TZID=Europe/Paris:20241018T190000
DTSTAMP:20260420T082004
CREATED:20241003T134516Z
LAST-MODIFIED:20241003T134516Z
UID:4366-1729267200-1729278000@lestaillades.fr
SUMMARY:RETOUR DU MARCHE
DESCRIPTION:Le Marché fait son retour sur la Place de la Mairie avec tous ses producteurs locaux.
URL:https://lestaillades.fr/event/retour-du-marche/
LOCATION:Place de la Mairie 84300 LES TAILLADES\, place de la mairie\, les taillades\, 84300\, France
ATTACH;FMTTYPE=image/jpeg:https://lestaillades.fr/wp-content/uploads/2024/10/Marche.jpg
END:VEVENT
END:VCALENDAR